BEGIN:VCALENDAR
VERSION:2.0
PRODID:-//ZContent.net//ZapCalLib 1.0//EN
CALSCALE:GREGORIAN
METHOD:PUBLISH
BEGIN:VEVENT
UID:164962@beursschouwburg.be
DTSTAMP:20260422T043036
DTSTART:20260422T203000
DTEND:20260422T203000
SUMMARY: Marios Bellas + Calya J w/ Stoemp!
URL:https://beursschouwburg.be/en/events/marios-bellas-cayla-j-stoemp/
ATTACH;FMTTYPE=image/jpeg:https://beursschouwburg.be/site/assets/files/1649
 59/marios-bellas.jpeg
END:VEVENT
BEGIN:VEVENT
UID:164966@beursschouwburg.be
DTSTAMP:20260422T043036
DTSTART:20260424T200000
DTEND:20260424T200000
SUMMARY: Oscillation ::: from the Mothership w/ Pom Bouvier-b. & Marjolijn 
 Dijkman + Michaela Turcerová + Elijah Maja + Ka Baird + Augustė Vickunai
 tė +  Ikbal Lubys + Lawrence McGuire + MSHR
URL:https://beursschouwburg.be/en/events/oscillation-qo-2/
ATTACH;FMTTYPE=image/png:https://beursschouwburg.be/site/assets/files/16496
 3/oscillations_screenshot_2026-02-17_at_11_28_05.png
END:VEVENT
BEGIN:VEVENT
UID:164967@beursschouwburg.be
DTSTAMP:20260422T043036
DTSTART:20260425T200000
DTEND:20260425T200000
SUMMARY: Oscillation ::: from the Mothership w/ Pom Bouvier-b. & Marjolijn 
 Dijkman + Michaela Turcerová + Elijah Maja + Ka Baird + Augustė Vickunai
 tė +  Ikbal Lubys + Lawrence McGuire + MSHR
URL:https://beursschouwburg.be/en/events/oscillation-qo-2/
ATTACH;FMTTYPE=image/png:https://beursschouwburg.be/site/assets/files/16496
 3/oscillations_screenshot_2026-02-17_at_11_28_05.png
END:VEVENT
BEGIN:VEVENT
UID:164971@beursschouwburg.be
DTSTAMP:20260422T043036
DTSTART:20260429T203000
DTEND:20260429T203000
SUMMARY: Nídia & Valentina + Ann Eysermans & Obsequeen
URL:https://beursschouwburg.be/en/events/nidia-valentina/
ATTACH;FMTTYPE=image/jpeg:https://beursschouwburg.be/site/assets/files/1649
 68/image1.jpg
END:VEVENT
BEGIN:VEVENT
UID:165254@beursschouwburg.be
DTSTAMP:20260422T043036
DTSTART:20260430T210000
DTEND:20260430T210000
SUMMARY: Dykes* to the front
URL:https://beursschouwburg.be/en/events/dykes-to-the-front/
ATTACH;FMTTYPE=image/jpeg:https://beursschouwburg.be/site/assets/files/1652
 47/dmb25_1a_14_19_09_c_dinayawaeyaert.jpg
END:VEVENT
BEGIN:VEVENT
UID:165237@beursschouwburg.be
DTSTAMP:20260422T043036
DTSTART:20260505T173000
DTEND:20260505T173000
SUMMARY: Surveillance in public spaces: colonial past and new technologies
URL:https://beursschouwburg.be/en/events/walk-surveillance-cameras-ligue-dr
 oits-humains/
ATTACH;FMTTYPE=image/png:https://beursschouwburg.be/site/assets/files/16523
 4/screenshot_2026-02-24_at_16_23_38.png
END:VEVENT
BEGIN:VEVENT
UID:165238@beursschouwburg.be
DTSTAMP:20260422T043036
DTSTART:20260602T173000
DTEND:20260602T173000
SUMMARY: Surveillance in public spaces: colonial past and new technologies
URL:https://beursschouwburg.be/en/events/walk-surveillance-cameras-ligue-dr
 oits-humains/
ATTACH;FMTTYPE=image/png:https://beursschouwburg.be/site/assets/files/16523
 4/screenshot_2026-02-24_at_16_23_38.png
END:VEVENT
BEGIN:VEVENT
UID:164975@beursschouwburg.be
DTSTAMP:20260422T043036
DTSTART:20260506T100000
DTEND:20260506T180000
SUMMARY: OpenField Gathering, Day 3: Manifest Everyday Urban Utopias
URL:https://beursschouwburg.be/en/events/arquitectura-expandida/
ATTACH;FMTTYPE=image/png:https://beursschouwburg.be/site/assets/files/16497
 2/carroussel_2_openfield.png
END:VEVENT
BEGIN:VEVENT
UID:165233@beursschouwburg.be
DTSTAMP:20260422T043036
DTSTART:20260506T190000
DTEND:20260506T190000
SUMMARY: Rosie Sommers' Absurd Cabaret for the Modern Soul w/ Sean Nicholas
  Savage + WORLD BRAIN + Lutèce Lockness
URL:https://beursschouwburg.be/en/events/rosie-sommers-absurd-cabaret-sean-
 nicholas-savage-world-brain-lutece-lockness/
ATTACH;FMTTYPE=image/jpeg:https://beursschouwburg.be/site/assets/files/1652
 30/sean_nicholas_savage_credit_aabid_youssef.jpg
END:VEVENT
BEGIN:VEVENT
UID:165263@beursschouwburg.be
DTSTAMP:20260422T043036
DTSTART:20260507T200000
DTEND:20260507T200000
SUMMARY: Gideon Boie & Lieven De Cauter — The Activist City.
URL:https://beursschouwburg.be/en/events/the-activist-city-essays-on-politi
 cal-urban-and-architectural-activism/
ATTACH;FMTTYPE=image/jpeg:https://beursschouwburg.be/site/assets/files/1652
 60/omslag_av_hd_red.jpeg
END:VEVENT
BEGIN:VEVENT
UID:165229@beursschouwburg.be
DTSTAMP:20260422T043036
DTSTART:20260508T200000
DTEND:20260508T200000
SUMMARY: the go find + Few Bits w/ Stoemp!
URL:https://beursschouwburg.be/en/events/the-go-find-few-bits-w-stoemp/
ATTACH;FMTTYPE=image/jpeg:https://beursschouwburg.be/site/assets/files/1652
 26/foto_ella_struyf.jpg
END:VEVENT
BEGIN:VEVENT
UID:165283@beursschouwburg.be
DTSTAMP:20260422T043036
DTSTART:20260509T203000
DTEND:20260509T203000
SUMMARY: Lagartijas Tiradas al Sol — Centroamérica
URL:https://beursschouwburg.be/en/events/lagartijas-tiradas-al-sol-centroam
 erica/
ATTACH;FMTTYPE=image/jpeg:https://beursschouwburg.be/site/assets/files/1652
 80/centroamerica_c_ulises_avila.jpg
END:VEVENT
BEGIN:VEVENT
UID:165284@beursschouwburg.be
DTSTAMP:20260422T043036
DTSTART:20260510T203000
DTEND:20260510T203000
SUMMARY: Lagartijas Tiradas al Sol — Centroamérica
URL:https://beursschouwburg.be/en/events/lagartijas-tiradas-al-sol-centroam
 erica/
ATTACH;FMTTYPE=image/jpeg:https://beursschouwburg.be/site/assets/files/1652
 80/centroamerica_c_ulises_avila.jpg
END:VEVENT
BEGIN:VEVENT
UID:165285@beursschouwburg.be
DTSTAMP:20260422T043036
DTSTART:20260512T203000
DTEND:20260512T203000
SUMMARY: Lagartijas Tiradas al Sol — Centroamérica
URL:https://beursschouwburg.be/en/events/lagartijas-tiradas-al-sol-centroam
 erica/
ATTACH;FMTTYPE=image/jpeg:https://beursschouwburg.be/site/assets/files/1652
 80/centroamerica_c_ulises_avila.jpg
END:VEVENT
BEGIN:VEVENT
UID:165286@beursschouwburg.be
DTSTAMP:20260422T043036
DTSTART:20260513T203000
DTEND:20260513T203000
SUMMARY: Lagartijas Tiradas al Sol — Centroamérica
URL:https://beursschouwburg.be/en/events/lagartijas-tiradas-al-sol-centroam
 erica/
ATTACH;FMTTYPE=image/jpeg:https://beursschouwburg.be/site/assets/files/1652
 80/centroamerica_c_ulises_avila.jpg
END:VEVENT
BEGIN:VEVENT
UID:165287@beursschouwburg.be
DTSTAMP:20260422T043036
DTSTART:20260514T170000
DTEND:20260514T170000
SUMMARY: Lagartijas Tiradas al Sol — Centroamérica
URL:https://beursschouwburg.be/en/events/lagartijas-tiradas-al-sol-centroam
 erica/
ATTACH;FMTTYPE=image/jpeg:https://beursschouwburg.be/site/assets/files/1652
 80/centroamerica_c_ulises_avila.jpg
END:VEVENT
BEGIN:VEVENT
UID:165288@beursschouwburg.be
DTSTAMP:20260422T043036
DTSTART:20260515T180000
DTEND:20260515T180000
SUMMARY: Lagartijas Tiradas al Sol — Centroamérica
URL:https://beursschouwburg.be/en/events/lagartijas-tiradas-al-sol-centroam
 erica/
ATTACH;FMTTYPE=image/jpeg:https://beursschouwburg.be/site/assets/files/1652
 80/centroamerica_c_ulises_avila.jpg
END:VEVENT
BEGIN:VEVENT
UID:165275@beursschouwburg.be
DTSTAMP:20260422T043036
DTSTART:20260519T180000
DTEND:20260519T180000
SUMMARY: Ali Asghar Dashti + Nasim Ahmadpour — Noli Me Tangere
URL:https://beursschouwburg.be/en/events/ali-asghar-dashti-nasim-ahmadpour-
 noli-me-tangere/
ATTACH;FMTTYPE=image/jpeg:https://beursschouwburg.be/site/assets/files/1652
 72/18__ali_asghar_dashti_nasim_ahmadpour_-_noli_me_tangere_-_shahr-e_ghess
 eh_c_nasib_nasibi.jpg
END:VEVENT
BEGIN:VEVENT
UID:165276@beursschouwburg.be
DTSTAMP:20260422T043036
DTSTART:20260520T220000
DTEND:20260520T220000
SUMMARY: Ali Asghar Dashti + Nasim Ahmadpour — Noli Me Tangere
URL:https://beursschouwburg.be/en/events/ali-asghar-dashti-nasim-ahmadpour-
 noli-me-tangere/
ATTACH;FMTTYPE=image/jpeg:https://beursschouwburg.be/site/assets/files/1652
 72/18__ali_asghar_dashti_nasim_ahmadpour_-_noli_me_tangere_-_shahr-e_ghess
 eh_c_nasib_nasibi.jpg
END:VEVENT
BEGIN:VEVENT
UID:165277@beursschouwburg.be
DTSTAMP:20260422T043036
DTSTART:20260521T190000
DTEND:20260521T190000
SUMMARY: Ali Asghar Dashti + Nasim Ahmadpour — Noli Me Tangere
URL:https://beursschouwburg.be/en/events/ali-asghar-dashti-nasim-ahmadpour-
 noli-me-tangere/
ATTACH;FMTTYPE=image/jpeg:https://beursschouwburg.be/site/assets/files/1652
 72/18__ali_asghar_dashti_nasim_ahmadpour_-_noli_me_tangere_-_shahr-e_ghess
 eh_c_nasib_nasibi.jpg
END:VEVENT
BEGIN:VEVENT
UID:165278@beursschouwburg.be
DTSTAMP:20260422T043036
DTSTART:20260522T230000
DTEND:20260522T230000
SUMMARY: Ali Asghar Dashti + Nasim Ahmadpour — Noli Me Tangere
URL:https://beursschouwburg.be/en/events/ali-asghar-dashti-nasim-ahmadpour-
 noli-me-tangere/
ATTACH;FMTTYPE=image/jpeg:https://beursschouwburg.be/site/assets/files/1652
 72/18__ali_asghar_dashti_nasim_ahmadpour_-_noli_me_tangere_-_shahr-e_ghess
 eh_c_nasib_nasibi.jpg
END:VEVENT
BEGIN:VEVENT
UID:165279@beursschouwburg.be
DTSTAMP:20260422T043036
DTSTART:20260523T190000
DTEND:20260523T190000
SUMMARY: Ali Asghar Dashti + Nasim Ahmadpour — Noli Me Tangere
URL:https://beursschouwburg.be/en/events/ali-asghar-dashti-nasim-ahmadpour-
 noli-me-tangere/
ATTACH;FMTTYPE=image/jpeg:https://beursschouwburg.be/site/assets/files/1652
 72/18__ali_asghar_dashti_nasim_ahmadpour_-_noli_me_tangere_-_shahr-e_ghess
 eh_c_nasib_nasibi.jpg
END:VEVENT
BEGIN:VEVENT
UID:165292@beursschouwburg.be
DTSTAMP:20260422T043036
DTSTART:20260526T100000
DTEND:20260526T180000
SUMMARY: Plat(e)form(e)
URL:https://beursschouwburg.be/en/events/plateforme-kfda26/
ATTACH;FMTTYPE=image/jpeg:https://beursschouwburg.be/site/assets/files/1652
 89/e-meunier-plateforme-kleiner_1_1000x0.jpg
END:VEVENT
BEGIN:VEVENT
UID:165293@beursschouwburg.be
DTSTAMP:20260422T043036
DTSTART:20260527T100000
DTEND:20260527T173000
SUMMARY: Plat(e)form(e)
URL:https://beursschouwburg.be/en/events/plateforme-kfda26/
ATTACH;FMTTYPE=image/jpeg:https://beursschouwburg.be/site/assets/files/1652
 89/e-meunier-plateforme-kleiner_1_1000x0.jpg
END:VEVENT
END:VCALENDAR